BEGIN:VCALENDAR
VERSION:2.0
PRODID:-//Rotary After Hours - ECPv6.15.20//NONSGML v1.0//EN
CALSCALE:GREGORIAN
METHOD:PUBLISH
X-WR-CALNAME:Rotary After Hours
X-ORIGINAL-URL:https://rotaryafterhours.com
X-WR-CALDESC:Events for Rotary After Hours
REFRESH-INTERVAL;VALUE=DURATION:PT1H
X-Robots-Tag:noindex
X-PUBLISHED-TTL:PT1H
BEGIN:VTIMEZONE
TZID:UTC
BEGIN:STANDARD
TZOFFSETFROM:+0000
TZOFFSETTO:+0000
TZNAME:UTC
DTSTART:20220101T000000
END:STANDARD
END:VTIMEZONE
BEGIN:VEVENT
DTSTART;TZID=UTC:20230613T173000
DTEND;TZID=UTC:20230613T183000
DTSTAMP:20260419T185356
CREATED:20230608T172904Z
LAST-MODIFIED:20230608T172904Z
UID:4953-1686677400-1686681000@rotaryafterhours.com
SUMMARY:Install New Mini Library at Morningside School
DESCRIPTION:Meet at Morningside School at 5:30pm to help install the new mini library.
URL:https://rotaryafterhours.com/event/install-new-mini-library-at-morningside-school/
LOCATION:ID
CATEGORIES:Hands On Project
ATTACH;FMTTYPE=image/jpeg:https://rotaryafterhours.com/wp-content/uploads/2023/06/IMG_8402.jpg
END:VEVENT
END:VCALENDAR