BEGIN:VCALENDAR
VERSION:2.0
PRODID:-//Rotary After Hours - ECPv6.15.20//NONSGML v1.0//EN
CALSCALE:GREGORIAN
METHOD:PUBLISH
X-WR-CALNAME:Rotary After Hours
X-ORIGINAL-URL:https://rotaryafterhours.com
X-WR-CALDESC:Events for Rotary After Hours
REFRESH-INTERVAL;VALUE=DURATION:PT1H
X-Robots-Tag:noindex
X-PUBLISHED-TTL:PT1H
BEGIN:VTIMEZONE
TZID:UTC
BEGIN:STANDARD
TZOFFSETFROM:+0000
TZOFFSETTO:+0000
TZNAME:UTC
DTSTART:20230101T000000
END:STANDARD
END:VTIMEZONE
BEGIN:VEVENT
DTSTART;TZID=UTC:20241022T173000
DTEND;TZID=UTC:20241022T183000
DTSTAMP:20260421T053255
CREATED:20240919T203625Z
LAST-MODIFIED:20240919T222249Z
UID:5297-1729618200-1729621800@rotaryafterhours.com
SUMMARY:SPEAKER ~ Alex Caval - Attorney at Law & Fellow Rotarian
DESCRIPTION:Alex will be discussing all the details of Proposition 1\, including the pros and cons\, of an important initiative that will be on the ballot this November. Our goal is to educate voters and help them understand this proposition. \nIn November\, Idaho voters will decide whether to enact Ranked Choice Voting (RCV) for statewide elections\, while using a non-partisan Top 4 primary system to determine which candidates advance to the general election. \nCurrently\, Idaho is one of nine states referred to as a “partially closed” primary state\, which means that private political parties are allowed to decide whether to include ballots from nonaffiliated voters. \n  \nSpeaker Details: \nAlexandra Caval is a bankruptcy attorney who focuses her practice on debtor rights in bankruptcy. Ms. Caval is a 2008 graduate of the University of Idaho College of Law. She is also involved in Republican politics within the State of Idaho.  In her spare time\, Ms. Caval enjoys painting and hiking.
URL:https://rotaryafterhours.com/event/alex-caval-attorney-at-law-fellow-rotarian/
LOCATION:TF Brickhouse\, 516 Hansen St. S\, Twin Falls\, ID\, 83301
CATEGORIES:speaker,weekly mtg
ATTACH;FMTTYPE=image/png:https://rotaryafterhours.com/wp-content/uploads/2024/09/Alex.png
END:VEVENT
BEGIN:VEVENT
DTSTART;VALUE=DATE:20241024
DTEND;VALUE=DATE:20241025
DTSTAMP:20260421T053255
CREATED:20240917T000517Z
LAST-MODIFIED:20240917T000517Z
UID:5276-1729728000-1729814399@rotaryafterhours.com
SUMMARY:World Polio Day
DESCRIPTION:World Polio Day\n\n\n\n\nOne Day.\nOne Focus:  Ending Polio\n  \nWorld Polio Day is a time for Rotary members\, public health advocates\, and all who want a world free from polio to come together\, recognize our progress in the fight to end polio\, and talk about the actions we need to take in order to end polio for good. \n\nAll donations are matched 2:1 by the Bill & Melinda Gates Foundation\, tripling your impact! \n\nDONATE NOW WITH THIS LINK
URL:https://rotaryafterhours.com/event/world-polio-day-2/
CATEGORIES:Fundraiser
ATTACH;FMTTYPE=image/jpeg:https://rotaryafterhours.com/wp-content/uploads/2021/10/endpolio3.jpg
END:VEVENT
BEGIN:VEVENT
DTSTART;TZID=UTC:20241024T170000
DTEND;TZID=UTC:20241024T190000
DTSTAMP:20260421T053255
CREATED:20241015T203202Z
LAST-MODIFIED:20241015T203202Z
UID:5354-1729789200-1729796400@rotaryafterhours.com
SUMMARY:Pints for Polio
DESCRIPTION:Come join us at Koto Brewing and help us End Polio!\nKoto Brewing will donate $1 for every beer purchased between 5-7pm! \nBe sure to stop by and have fun with fellow Rotarians.
URL:https://rotaryafterhours.com/event/pints-for-polio/
LOCATION:Koto Brewing\, 156 Main Ave N\, Twin Falls\, ID\, 83301\, United States
CATEGORIES:Fundraiser
ATTACH;FMTTYPE=image/jpeg:https://rotaryafterhours.com/wp-content/uploads/2024/10/pintsforpolio2024.jpg
END:VEVENT
BEGIN:VEVENT
DTSTART;TZID=UTC:20241029T080000
DTEND;TZID=UTC:20241029T170000
DTSTAMP:20260421T053255
CREATED:20240916T230627Z
LAST-MODIFIED:20240916T230655Z
UID:5238-1730188800-1730221200@rotaryafterhours.com
SUMMARY:5TH TUESDAY
DESCRIPTION:5th Tuesday \nWhere we have a fun evening to hang out for fellowship or learning. \nTBD
URL:https://rotaryafterhours.com/event/5th-tuesday/
CATEGORIES:5th Tuesday
ATTACH;FMTTYPE=image/png:https://rotaryafterhours.com/wp-content/uploads/2024/09/we-can-be-heros.png
END:VEVENT
BEGIN:VEVENT
DTSTART;TZID=UTC:20241113T161500
DTEND;TZID=UTC:20241113T171500
DTSTAMP:20260421T053255
CREATED:20240916T234634Z
LAST-MODIFIED:20240917T005320Z
UID:5256-1731514500-1731518100@rotaryafterhours.com
SUMMARY:Board Meeting
DESCRIPTION:TF ROTARY AFTER HOURS BOARD MEETING\nEvery 2nd Wednesday of the Month \nLocation:  TBD
URL:https://rotaryafterhours.com/event/board-meeting-2/
CATEGORIES:Board Meeting
ATTACH;FMTTYPE=image/jpeg:https://rotaryafterhours.com/wp-content/uploads/2024/09/Board-Meeting-.-light-bulb.jpg
END:VEVENT
BEGIN:VEVENT
DTSTART;VALUE=DATE:20241126
DTEND;VALUE=DATE:20241127
DTSTAMP:20260421T053255
CREATED:20240916T230818Z
LAST-MODIFIED:20240916T230818Z
UID:5240-1732579200-1732665599@rotaryafterhours.com
SUMMARY:NO MEETING ~ HAPPY THANKSGIVING
DESCRIPTION:NO MEETING TODAY DUE TO THE HOLIDAY! \nHAVE A WONDERFUL HAPPY THANKSGIVING WITH FAMILY AND FRIENDS.
URL:https://rotaryafterhours.com/event/no-meeting-happy-thanksgiving/
CATEGORIES:NO Meeting
ATTACH;FMTTYPE=image/jpeg:https://rotaryafterhours.com/wp-content/uploads/2021/11/happythanksgiving.jpg
END:VEVENT
BEGIN:VEVENT
DTSTART;TZID=UTC:20241211T161500
DTEND;TZID=UTC:20241211T171500
DTSTAMP:20260421T053255
CREATED:20240916T234717Z
LAST-MODIFIED:20240917T005250Z
UID:5258-1733933700-1733937300@rotaryafterhours.com
SUMMARY:Board Meeting
DESCRIPTION:TF ROTARY AFTER HOURS BOARD MEETING\nEvery 2nd Wednesday of the Month \nLocation:  TBD
URL:https://rotaryafterhours.com/event/board-meeting-3/
CATEGORIES:Board Meeting
ATTACH;FMTTYPE=image/jpeg:https://rotaryafterhours.com/wp-content/uploads/2024/09/Board-Meeting-.-light-bulb.jpg
END:VEVENT
BEGIN:VEVENT
DTSTART;TZID=UTC:20241213T100000
DTEND;TZID=UTC:20241213T160000
DTSTAMP:20260421T053255
CREATED:20241106T000227Z
LAST-MODIFIED:20241106T000227Z
UID:5371-1734084000-1734105600@rotaryafterhours.com
SUMMARY:Salvation Army Bell Ringing
DESCRIPTION:Be sure to come visit us while we ring the bell for Salvation Army this season at Fred Meyer’s on December 13th from 10-4pm. \n 
URL:https://rotaryafterhours.com/event/salvation-army-bell-ringing/
LOCATION:Fred Meyers\, 705 Blue Lakes Blvd N\, Twin Falls\, ID\, 83301
CATEGORIES:Fundraiser
ATTACH;FMTTYPE=image/jpeg:https://rotaryafterhours.com/wp-content/uploads/2023/09/Salvation-Army-logo.jpg
END:VEVENT
BEGIN:VEVENT
DTSTART;VALUE=DATE:20241224
DTEND;VALUE=DATE:20241225
DTSTAMP:20260421T053255
CREATED:20240916T230939Z
LAST-MODIFIED:20240916T230939Z
UID:5242-1734998400-1735084799@rotaryafterhours.com
SUMMARY:NO MEETING ~MERRY CHRISTMAS
DESCRIPTION:NO MEETING TODAY DUE TO THE HOLIDAY! \nHAVE A FESTIVE MERRY CHRISTMAS WITH FAMILY AND FRIENDS.
URL:https://rotaryafterhours.com/event/no-meeting-merryxmas/
CATEGORIES:NO Meeting
ATTACH;FMTTYPE=image/jpeg:https://rotaryafterhours.com/wp-content/uploads/2021/11/img_christmashappynewyear-copy.jpg
END:VEVENT
BEGIN:VEVENT
DTSTART;VALUE=DATE:20241231
DTEND;VALUE=DATE:20250101
DTSTAMP:20260421T053255
CREATED:20240916T231334Z
LAST-MODIFIED:20240916T231334Z
UID:5245-1735603200-1735689599@rotaryafterhours.com
SUMMARY:NO MEETING ~HAPPY NEW YEAR
DESCRIPTION:NO MEETING TODAY DUE TO THE HOLIDAY! \nHAVE A FUN\, SAFE HAPPY NEW YEAR WITH FAMILY AND FRIENDS.
URL:https://rotaryafterhours.com/event/no-meeting-happynewyear/
CATEGORIES:NO Meeting
ATTACH;FMTTYPE=image/jpeg:https://rotaryafterhours.com/wp-content/uploads/2024/09/HAPPYNEWYEAR.jpg
END:VEVENT
BEGIN:VEVENT
DTSTART;TZID=UTC:20250108T161500
DTEND;TZID=UTC:20250108T171500
DTSTAMP:20260421T053255
CREATED:20240916T234755Z
LAST-MODIFIED:20240917T005229Z
UID:5260-1736352900-1736356500@rotaryafterhours.com
SUMMARY:Board Meeting
DESCRIPTION:TF ROTARY AFTER HOURS BOARD MEETING\nEvery 2nd Wednesday of the Month \nLocation:  TBD
URL:https://rotaryafterhours.com/event/board-meeting-4/
CATEGORIES:Board Meeting
ATTACH;FMTTYPE=image/jpeg:https://rotaryafterhours.com/wp-content/uploads/2024/09/Board-Meeting-.-light-bulb.jpg
END:VEVENT
BEGIN:VEVENT
DTSTART;TZID=UTC:20250212T161500
DTEND;TZID=UTC:20250212T171500
DTSTAMP:20260421T053255
CREATED:20240916T234827Z
LAST-MODIFIED:20240917T005208Z
UID:5262-1739376900-1739380500@rotaryafterhours.com
SUMMARY:Board Meeting
DESCRIPTION:TF ROTARY AFTER HOURS BOARD MEETING\nEvery 2nd Wednesday of the Month \nLocation:  TBD
URL:https://rotaryafterhours.com/event/board-meeting-5/
CATEGORIES:Board Meeting
ATTACH;FMTTYPE=image/jpeg:https://rotaryafterhours.com/wp-content/uploads/2024/09/Board-Meeting-.-light-bulb.jpg
END:VEVENT
BEGIN:VEVENT
DTSTART;TZID=UTC:20250221T180000
DTEND;TZID=UTC:20250221T230000
DTSTAMP:20260421T053255
CREATED:20240912T000058Z
LAST-MODIFIED:20240916T225701Z
UID:5223-1740160800-1740178800@rotaryafterhours.com
SUMMARY:13TH ANNUAL MARTINI TASTING MASQUERADE BALL
DESCRIPTION:Twin Falls Rotary After Hours is ramping up for our 13thth Annual Martini Tasting Masquerade Ball! SAVE THE DATE February 21\, 2025 at Twin Falls Fairgrounds Merchant Bldg. #3. Our theme this year is “50’s Sock Hop”! Gaming tables are such a huge hit we will have them again as well! There will of course also be music\, dancing and delicious custom libations. \n  \nIdaho Playground Project is this year’s beneficiary; Idaho Playground Project\, empowers lives through PLAY! They help raise awareness and funds for adaptive playground equipment so every child has equal access to play. We CANNOT do it without YOU!
URL:https://rotaryafterhours.com/event/13th-annual-martini-tasting-masquerade-ball/
LOCATION:TF Fairgrounds Merchant Bldg #3\, 215 Fair Ave\, Filer\, ID\, 83328
CATEGORIES:Fundraiser
ATTACH;FMTTYPE=image/png:https://rotaryafterhours.com/wp-content/uploads/2024/09/TF-Rotary-50s-Sock-Hop-01-1.png
END:VEVENT
BEGIN:VEVENT
DTSTART;TZID=UTC:20260227T183000
DTEND;TZID=UTC:20260227T230000
DTSTAMP:20260421T053255
CREATED:20251001T050923Z
LAST-MODIFIED:20251001T051404Z
UID:5828-1772217000-1772233200@rotaryafterhours.com
SUMMARY:2026 Martini Tasting Masquerade Ball Fundraiser
DESCRIPTION:Dear Friends of Rotary\, \n Get ready for a night of roaring fun at the 14th Annual Martini Tasting Masquerade Ball hosted by Twin Falls Rotary After Hours!  Mark your calendars for February 27\, 2026\, because you won’t want to miss out on this spectacular evening at the Twin Falls Fairgrounds Merchant Bldg. 3! \n  \n This year’s thrilling theme is **Jurassic Park**—in honor of our amazing beneficiary\, T-Rex Little Lungs Foundation! Get ready to unleash your creativity as we transform the venue into a jungle teeming with dinosaurs\, game wardens\, and adventurous scientists. It’s going to be a prehistoric extravaganza!  \n  \n Dance the night away to the electrifying live music from Shenanigans\, test your luck at some new games we have for some fun\, and sip on delicious martinis as we come together for a cause that truly matters. You’ll be joining your friends in a wild adventure\, all while making a significant impact in our community! \n  \nT-Rex Little Lungs is dedicated to providing vital emotional and financial support to families in Idaho caring for children with Bronchopulmonary Dysplasia (BPD) and those relying on tracheostomies or ventilators. Your participation helps ease the burdens of hospital stays\, out-of-state care\, and the transition back home for these families. \n  \n We are also reaching out to local businesses for sponsorship opportunities! Consider partnering with us to enhance your business’s visibility and show your community spirit. We have exciting perks waiting for you as a token of our gratitude for your generosity! \n  \nSo dust off your dinosaur costumes and get ready for a night filled with laughter\, dancing\, and making a difference!  Join us for a roaring good time that you won’t soon forget! Let’s make magic happen together!  \n  \nTo find out more about sponsoring the event or how to participate visit our website at: Sponsorship Options \nTo Purchase Tickets Click Here \nWe appreciate your continued support!
URL:https://rotaryafterhours.com/event/2026-martini-tasting-masquerade-ball-fundraiser/
LOCATION:TF Fairgrounds Merchant Bldg #3\, 215 Fair Ave\, Filer\, ID\, 83328
CATEGORIES:Fundraiser
ATTACH;FMTTYPE=image/png:https://rotaryafterhours.com/wp-content/uploads/2025/09/TF-Rotary-01.png
END:VEVENT
END:VCALENDAR