BEGIN:VCALENDAR
VERSION:2.0
PRODID:-//Rotary After Hours - ECPv6.15.20//NONSGML v1.0//EN
CALSCALE:GREGORIAN
METHOD:PUBLISH
X-WR-CALNAME:Rotary After Hours
X-ORIGINAL-URL:https://rotaryafterhours.com
X-WR-CALDESC:Events for Rotary After Hours
REFRESH-INTERVAL;VALUE=DURATION:PT1H
X-Robots-Tag:noindex
X-PUBLISHED-TTL:PT1H
BEGIN:VTIMEZONE
TZID:UTC
BEGIN:STANDARD
TZOFFSETFROM:+0000
TZOFFSETTO:+0000
TZNAME:UTC
DTSTART:20220101T000000
END:STANDARD
END:VTIMEZONE
BEGIN:VEVENT
DTSTART;TZID=UTC:20241001T173000
DTEND;TZID=UTC:20241001T183000
DTSTAMP:20260419T150851
CREATED:20240911T200430Z
LAST-MODIFIED:20240918T225229Z
UID:5208-1727803800-1727807400@rotaryafterhours.com
SUMMARY:Speaker ~ Dr. Brady Dickenson - TF School District Superintendant
DESCRIPTION:The TFSD is pursuing a $7.2 million levy to support school operations. This levy will replace the current one that expires on July 30\, 2025. It will be on the 2024 ballot on November 5th. \nDr. Brady will discuss how these funds will be used in the school district and the costs for taxpayers. \nPlease bring a guest and the public is always welcome. \nAbout:  \nDr. Dickinson has been with the Twin Falls School District since 1995.  He started his career as a social studies teacher at Robert Stuart Middle School in 1995. In 2007\, he took the role of Vice Principal and Athletic Director at Robert Stuart Middle School. Dr. Dickinson helped with the planning and opening of Canyon Ridge High School as the school’s first Principal in 2009. \nThat same year he received the Extra Mile Award from the Twin Falls Chamber of Commerce. While working as the Principal at CRHS in 2011\, he received the Milken Award for the State of Idaho\, which honors inspiring excellence in the world of education. Dr. Dickinson moved to a role in the District Office in 2013 to serve as the Director of Operations. \nUnder his leadership\, the TFSD built three new schools and provided needed upgrades to many of the district’s aging buildings. \nHe became superintendent in 2016 taking on the district’s mission to “Provide a quality education necessary for all students to be successful in life.”
URL:https://rotaryafterhours.com/event/speaker-dr-brady-dickenson-tf-school-district-superintendant/
LOCATION:TF Brickhouse\, 516 Hansen St. S\, Twin Falls\, ID\, 83301
CATEGORIES:speaker,weekly mtg
ATTACH;FMTTYPE=image/jpeg:https://rotaryafterhours.com/wp-content/uploads/2024/09/Brady-Dickinson.jpg
END:VEVENT
BEGIN:VEVENT
DTSTART;TZID=UTC:20241001T163000
DTEND;TZID=UTC:20241001T170000
DTSTAMP:20260419T150851
CREATED:20240919T211755Z
LAST-MODIFIED:20240919T211915Z
UID:5303-1727800200-1727802000@rotaryafterhours.com
SUMMARY:Ribbon Cutting ~ Water Fountain
DESCRIPTION:Twin Falls Rotary After Hours is excited to announce a ribbon-cutting event for the water fountain that the club donated to our community in 2021. We finally have signage for it\, so we wanted to celebrate with a ribbon cutting to make it all official.The fountain\, installed at the Visitor Center lawn\, is multi-use\, providing a traditional drinking water fountain\, a water bottle refill option\, and a doggie watering bowl!\n\nPlease join us to officially christen the water fountain!
URL:https://rotaryafterhours.com/event/ribbon-cutting-water-fountain/
LOCATION:TF Chamber of Commerce Visitor Center\, 2015 Nielsen Point Pl\,\, Twin Falls\, ID\, 83301\, United States
ATTACH;FMTTYPE=image/jpeg:https://rotaryafterhours.com/wp-content/uploads/2023/06/fountain-at-vc.jpg
END:VEVENT
BEGIN:VEVENT
DTSTART;TZID=UTC:20240924T173000
DTEND;TZID=UTC:20240924T183000
DTSTAMP:20260419T150851
CREATED:20240911T195951Z
LAST-MODIFIED:20240916T225420Z
UID:5205-1727199000-1727202600@rotaryafterhours.com
SUMMARY:District Governor Steve Gage Club Visit
DESCRIPTION:District Governor Steve Gage’s mission is to lead clubs\, inspire Rotary members\, and engage the general public in the important role fulfilled by Rotary in our community. \nDistrict Governors serve for one full Rotary year\, from July 1 to June 30\, and are very actively engaged in District decision-making leading up to their year as Governor. \nSteve will be sharing with us his goals during “The Magic of Rotary” 2024/2025 year.  \nBe sure to bring a guest and the public is always welcome.
URL:https://rotaryafterhours.com/event/district-governor-steve-gage-club-visit/
LOCATION:TF Brickhouse\, 516 Hansen St. S\, Twin Falls\, ID\, 83301
CATEGORIES:speaker,weekly mtg
ATTACH;FMTTYPE=image/jpeg:https://rotaryafterhours.com/wp-content/uploads/2024/09/Steve-Gage.jpeg
END:VEVENT
BEGIN:VEVENT
DTSTART;TZID=UTC:20240921T110000
DTEND;TZID=UTC:20240921T133000
DTSTAMP:20260419T150851
CREATED:20240911T234030Z
LAST-MODIFIED:20240911T235700Z
UID:5217-1726916400-1726925400@rotaryafterhours.com
SUMMARY:VOLUNTEER & CLUB FAIR
DESCRIPTION:ROTARY\nDiscover Our Amazing Humanitarian Club\nDid you know for more than 110 years\, Rotary’s people of action have used their passion\, energy\, and intelligence to take action on sustainable projects. From literacy and peace to water and health\, we are always working to better our world\, and we stay committed to the end. \nVisit our booth and learn how you can contribute to your local community. Find out how we fight disease\, protect the environment\, provide clean water and sanitation\, and much more! \nThere are currently three clubs in Twin Falls\, offering options for participation to accommodate everyone with a busy schedule. Getting involved will be some of the most rewarding work you can do. Find out how you can be a HERO too!
URL:https://rotaryafterhours.com/event/volunteer-club-fair/
LOCATION:Twin Falls Public Library\, 201 4th Ave E.\, Twin Falls\, ID\, 83303\, United States
CATEGORIES:Membership
ATTACH;FMTTYPE=image/png:https://rotaryafterhours.com/wp-content/uploads/2024/09/we-can-be-heros.png
END:VEVENT
BEGIN:VEVENT
DTSTART;TZID=UTC:20240917T173000
DTEND;TZID=UTC:20240917T183000
DTSTAMP:20260419T150851
CREATED:20240916T225921Z
LAST-MODIFIED:20240916T230430Z
UID:5230-1726594200-1726597800@rotaryafterhours.com
SUMMARY:Weekly Meeting
DESCRIPTION:SEPTEMBER 17\, 2024\nRegular Weekly Meeting – 5:30PM\nTF Brickhouse\n516 Hansen St N.\nTwin Falls\, ID. 83301 \n  \nWe will be discussing: \nSee’s Candy Sales links/marketing \nHands on project with Idaho Project Playground options. \nDON’T FORGET YOUR HAPPY DOLLARS \nPUBLIC IS ALWAYS WELCOME
URL:https://rotaryafterhours.com/event/weekly-meeting/
LOCATION:TF Brickhouse\, 516 Hansen St. S\, Twin Falls\, ID\, 83301
CATEGORIES:weekly mtg
ATTACH;FMTTYPE=image/jpeg:https://rotaryafterhours.com/wp-content/uploads/2024/09/Regular-Meeting-Banner.jpg
END:VEVENT
BEGIN:VEVENT
DTSTART;TZID=UTC:20240223T180000
DTEND;TZID=UTC:20240223T230000
DTSTAMP:20260419T150851
CREATED:20231009T195208Z
LAST-MODIFIED:20231009T210318Z
UID:5040-1708711200-1708729200@rotaryafterhours.com
SUMMARY:Martini Tasting Masquerade Ball ~ Day of the Dead
DESCRIPTION:Day of the Dead Theme this year! \nMark your calendars and watch for more details!
URL:https://rotaryafterhours.com/event/martini-tasting-masquerade-ball-day-of-the-dead/
CATEGORIES:Fundraiser
ATTACH;FMTTYPE=image/jpeg:https://rotaryafterhours.com/wp-content/uploads/2023/10/dayofdead2.jpg
END:VEVENT
BEGIN:VEVENT
DTSTART;TZID=UTC:20231216T100000
DTEND;TZID=UTC:20231216T170000
DTSTAMP:20260419T150851
CREATED:20230927T202423Z
LAST-MODIFIED:20230927T203738Z
UID:5008-1702720800-1702746000@rotaryafterhours.com
SUMMARY:Wreaths Across America
DESCRIPTION:We will be laying wreaths on Veterans graves in the Magic Valley.  EStreet Community Ctr teens will be assisting us with the beautiful hands on project \nRemember our fallen U.S. Veterans. Honor those who serve. Teach the next generation the value of freedom. It’s the mission of Wreaths Across America. You can join us by sponsoring a wreath\, volunteering or partnering with us on National Wreaths Across America Day and every day.
URL:https://rotaryafterhours.com/event/wreaths-across-america/
CATEGORIES:Hands On Project
ATTACH;FMTTYPE=image/jpeg:https://rotaryafterhours.com/wp-content/uploads/2023/09/Home_Sm_ILANCAVetandgirl-copy.jpg
END:VEVENT
BEGIN:VEVENT
DTSTART;TZID=UTC:20231215T110000
DTEND;TZID=UTC:20231215T170000
DTSTAMP:20260419T150851
CREATED:20230927T202225Z
LAST-MODIFIED:20231009T195400Z
UID:5005-1702638000-1702659600@rotaryafterhours.com
SUMMARY:TFRAH Bellringing for Salvation Army
DESCRIPTION:Come see us at Walmart ringing the bell for Salvation Army!
URL:https://rotaryafterhours.com/event/tfrah-bellringing-for-salvation-army/
LOCATION:Walmart\, 252 Cheney Dr W\, Twin Falls\, ID\, 83301
CATEGORIES:Fundraiser
ATTACH;FMTTYPE=image/jpeg:https://rotaryafterhours.com/wp-content/uploads/2023/10/bellringer.jpg
END:VEVENT
BEGIN:VEVENT
DTSTART;TZID=UTC:20231028T110000
DTEND;TZID=UTC:20231028T140000
DTSTAMP:20260419T150851
CREATED:20230927T202004Z
LAST-MODIFIED:20231009T194833Z
UID:5002-1698490800-1698501600@rotaryafterhours.com
SUMMARY:Shop for a Cause at Fred Meyers
DESCRIPTION:Shop for Cause  \nTwin Falls Rotary After Hours will be at Fred Meyer’s accepting your purchased donations for our  “Shop for a Cause” Oct 28th from 10-2pm. \n  \nAlternatively\, you may shop at your convenience and drop off your donations at Brady’s 305 Shoshone St S. Twin Falls. \n  \nBelow are CASA (Court Appointed Special Advocates) most needed items: \n  \nCASA NEEDS \n\nSchool supplies are on the top of the list.\nAny and all school supplies (**NO spiral notebooks\, they have plenty)\nNew pillows\nBoys/Girls Pajamas are a constant need – Age 0-18\, all sizes\nBoys/Girls Clothing – Age 0-18\, all sizes\nGas gift cards\nGift cards for treats- ice cream\, yogurt\, lunch\, movies\, hands on\, any fun things to do\nItems for Teens Boys/Girls (things they can pull out for Birthdays)\n\n\nJewelry\nLotions\nAftershave\nRazors\nFun hair ties\nEasy little gifts appropriate for teenage boys/girls\nGift Cards for Teens –\n\nFast food – McDonald’s\, Burger King\, Subway\, Pizza\, etc.\nCoffee stops – Dutch Bros\, Starbucks\, Full Steam\, etc.\nDesserts – Kiwi Loco\, Orange Leaf\, etc.\nQuick Stop stores – Oasis Stop & Go\, Mavericks\, etc.\nFun Activities – Movies\, skating\, laser tag\, etc.\n\n\n\n\n\nIf you would rather donate cash click here. 
URL:https://rotaryafterhours.com/event/fundraiser-for-casa-at-fred-meyers/
LOCATION:Fred Meyers\, 705 Blue Lakes Blvd N\, Twin Falls\, ID\, 83301
CATEGORIES:Fundraiser
ATTACH;FMTTYPE=image/jpeg:https://rotaryafterhours.com/wp-content/uploads/2023/09/casaimg.jpg
END:VEVENT
BEGIN:VEVENT
DTSTART;VALUE=DATE:20231024
DTEND;VALUE=DATE:20231025
DTSTAMP:20260419T150851
CREATED:20231009T200117Z
LAST-MODIFIED:20231009T200117Z
UID:5043-1698105600-1698191999@rotaryafterhours.com
SUMMARY:World Polio Day
DESCRIPTION:Governor Little will be making a declaration for Idaho. \n 
URL:https://rotaryafterhours.com/event/world-polio-day/
ATTACH;FMTTYPE=image/jpeg:https://rotaryafterhours.com/wp-content/uploads/2023/10/worldpoliodayprojection.jpg
END:VEVENT
BEGIN:VEVENT
DTSTART;TZID=UTC:20230718T173000
DTEND;TZID=UTC:20230718T183000
DTSTAMP:20260419T150851
CREATED:20230608T223845Z
LAST-MODIFIED:20230608T224051Z
UID:4983-1689701400-1689705000@rotaryafterhours.com
SUMMARY:Tour Snake River Elks Lodge
DESCRIPTION:We will be visiting the Snake River Elks Lodge for a possible venue for 2024 Martini Event. \nThe bar will be open for us! \n 
URL:https://rotaryafterhours.com/event/visit-snake-river-elks-lodge/
LOCATION:Snake River Elks Lodge\, 412 E 200 S\, Jerome\, ID\, 83338
CATEGORIES:weekly mtg
ATTACH;FMTTYPE=image/jpeg:https://rotaryafterhours.com/wp-content/uploads/2023/06/snake-river-elks-2.jpg
END:VEVENT
BEGIN:VEVENT
DTSTART;TZID=UTC:20230627T173000
DTEND;TZID=UTC:20230627T183000
DTSTAMP:20260419T150851
CREATED:20230608T175707Z
LAST-MODIFIED:20230608T224249Z
UID:4971-1687887000-1687890600@rotaryafterhours.com
SUMMARY:Changing of the Guard
DESCRIPTION:Join us for our yearly Changing of the Guard. \nWhere we acknowledge our accomplishments for the year and welcome Raphael Erikson as our new Rotary President. \nWe award members in our club for exemplarary past service too! \nThis is a a family event so please bring your family and a guest.
URL:https://rotaryafterhours.com/event/changing-of-the-guard/
LOCATION:Mary Alice Park\, 436 Main Ave W\, Twin Falls\, ID\, 83301\, United States
CATEGORIES:weekly mtg
ATTACH;FMTTYPE=image/jpeg:https://rotaryafterhours.com/wp-content/uploads/2023/06/2023-2024-Themeportrait.jpg
END:VEVENT
BEGIN:VEVENT
DTSTART;TZID=UTC:20230620T173000
DTEND;TZID=UTC:20230620T183000
DTSTAMP:20260419T150851
CREATED:20230608T174023Z
LAST-MODIFIED:20230608T180453Z
UID:4965-1687282200-1687285800@rotaryafterhours.com
SUMMARY:Water Fountain Survey at TF Chamber of Commerce Visitor Center
DESCRIPTION:
URL:https://rotaryafterhours.com/event/water-fountain-survey-at-tf-chamber-of-commerce-visitor-center/
LOCATION:TF Chamber of Commerce Visitor Center\, 2015 Nielsen Point Pl\,\, Twin Falls\, ID\, 83301\, United States
CATEGORIES:weekly mtg
ATTACH;FMTTYPE=image/jpeg:https://rotaryafterhours.com/wp-content/uploads/2023/06/tfchamberbldg2.jpg
END:VEVENT
BEGIN:VEVENT
DTSTART;TZID=UTC:20230613T173000
DTEND;TZID=UTC:20230613T183000
DTSTAMP:20260419T150851
CREATED:20230608T172904Z
LAST-MODIFIED:20230608T172904Z
UID:4953-1686677400-1686681000@rotaryafterhours.com
SUMMARY:Install New Mini Library at Morningside School
DESCRIPTION:Meet at Morningside School at 5:30pm to help install the new mini library.
URL:https://rotaryafterhours.com/event/install-new-mini-library-at-morningside-school/
CATEGORIES:Hands On Project
ATTACH;FMTTYPE=image/jpeg:https://rotaryafterhours.com/wp-content/uploads/2023/06/IMG_8402.jpg
END:VEVENT
END:VCALENDAR